BEGIN:VCALENDAR
VERSION:2.0
PRODID:-//Chaffee County Habitat for Humanity - ECPv6.15.13.1//NONSGML v1.0//EN
CALSCALE:GREGORIAN
METHOD:PUBLISH
X-WR-CALNAME:Chaffee County Habitat for Humanity
X-ORIGINAL-URL:https://chaffeehabitat.org/wp
X-WR-CALDESC:Events for Chaffee County Habitat for Humanity
REFRESH-INTERVAL;VALUE=DURATION:PT1H
X-Robots-Tag:noindex
X-PUBLISHED-TTL:PT1H
BEGIN:VTIMEZONE
TZID:America/Denver
BEGIN:DAYLIGHT
TZOFFSETFROM:-0700
TZOFFSETTO:-0600
TZNAME:MDT
DTSTART:20230312T090000
END:DAYLIGHT
BEGIN:STANDARD
TZOFFSETFROM:-0600
TZOFFSETTO:-0700
TZNAME:MST
DTSTART:20231105T080000
END:STANDARD
BEGIN:DAYLIGHT
TZOFFSETFROM:-0700
TZOFFSETTO:-0600
TZNAME:MDT
DTSTART:20240310T090000
END:DAYLIGHT
BEGIN:STANDARD
TZOFFSETFROM:-0600
TZOFFSETTO:-0700
TZNAME:MST
DTSTART:20241103T080000
END:STANDARD
BEGIN:DAYLIGHT
TZOFFSETFROM:-0700
TZOFFSETTO:-0600
TZNAME:MDT
DTSTART:20250309T090000
END:DAYLIGHT
BEGIN:STANDARD
TZOFFSETFROM:-0600
TZOFFSETTO:-0700
TZNAME:MST
DTSTART:20251102T080000
END:STANDARD
BEGIN:DAYLIGHT
TZOFFSETFROM:-0700
TZOFFSETTO:-0600
TZNAME:MDT
DTSTART:20260308T090000
END:DAYLIGHT
BEGIN:STANDARD
TZOFFSETFROM:-0600
TZOFFSETTO:-0700
TZNAME:MST
DTSTART:20261101T080000
END:STANDARD
END:VTIMEZONE
BEGIN:VEVENT
DTSTART;TZID=America/Denver:20250724T173000
DTEND;TZID=America/Denver:20250724T190000
DTSTAMP:20260423T120605
CREATED:20250604T185503Z
LAST-MODIFIED:20250710T195105Z
UID:13140-1753378200-1753383600@chaffeehabitat.org
SUMMARY:2025 Mac & Cheese Bake-Off Fundraiser
DESCRIPTION:Don’t Miss the Chaffee County Habitat for Humanity\n11th Annual Mac & Cheese Bake-Off featuring\n“Anything Pasta” Fundraiser!\nPresented by\n\n\nClick Here to Purchase Event Tickets & Sponsorships (Due by 7/18 for banner)!\nEvent tickets purchased online before July 18th will be mailed to you via USPS. We will also have a “will-call” line at the door.\nClick Here to enter a dish in the Bake-Off!\nOne complimentary event ticket per baker.\nClick Here to Donate Items to the Silent Auction!\nThe deadline to donate items for the silent auction is Friday\, July 18th at 12:00 PM.\nClick Here to Bid on Items in the Virtual Silent Auction!\nThe auction opens on Wednesday\, July 23rd at 12:00 PM and closes on Friday\, July 25th at 7:00 PM. This is a virtual auction and items will be on display during the event. Winners will be notified automatically through the GalaBid system. We will contact you during the week of July 28th to schedule a day/time to pick up and pay for your winning items if you do not pay online. You do not need to pay through the GalaBid auction site and can bring a check to the administrative offices when you arrive for your items. Donations from local businesses and individuals sponsor the auction portion of this event\n\nChaffee County Habitat for Humanity presents the 11th Annual Mac & Cheese Bake-Off fundraiser featuring “Anything Pasta” on Thursday\, July 24th from 5:30-7:00 PM. Mount Princeton Hot Springs Resort will\, again\, generously donate the use of their pavilion\, and proceeds from this event will benefit Chaffee County Habitat for Humanity’s mission of building homes\, communities\, and hope. Individuals\, church groups\, businesses\, and restaurants bring their best pasta recipes\, and attendees will vote for their favorite dishes. Prizes are awarded for the winning recipes in the individual and restaurant categories for first\, second\, and third place. Salads\, desserts\, and a cash bar will be provided. \nAdult tickets for the event are $35.00 if purchased before 5:00 PM on July 23rd\, and $45.00 on the day of the event; tickets for children ages 12 and under are $15.00. For each event ticket purchased\, please record all guests’ first & last names. This info is required for each guest attending the event for event protocol at the venue. \nFor more information call 719-395-0482\, or email events@chaffeehabitat.org\nWe look forward to seeing you at this year’s event!
URL:https://chaffeehabitat.org/wp/event/2025-mac-cheese-bake-off-fundraiser/
LOCATION:Mount Princeton Hot Springs Resort Pavilion\, 15870 Co Rd 162\, Nathrop\, CO\, 81236\, United States
CATEGORIES:Fundraiser
ORGANIZER;CN="Chaffee County Habitat for Humanity":MAILTO:angela@chaffeehabitat.org
END:VEVENT
BEGIN:VEVENT
DTSTART;TZID=America/Denver:20240725T173000
DTEND;TZID=America/Denver:20240725T193000
DTSTAMP:20260423T120605
CREATED:20240604T184805Z
LAST-MODIFIED:20240617T224224Z
UID:12740-1721928600-1721935800@chaffeehabitat.org
SUMMARY:2024 Mac & Cheese Bake-Off Fundraiser
DESCRIPTION:Don’t Miss the Chaffee County Habitat for Humanity\n10th Annual Mac & Cheese Bake-Off featuring\n“Anything Pasta” Fundraiser!\nPresented by\n\n\nClick Here to Purchase Event Tickets & Sponsorships (Due by 7/17 for banner)!\nEvent tickets purchased online before July 19th will be mailed to you via USPS. We will also have a “will-call” line at the door.\nClick Here to enter a dish in the Bake-Off!\nOne complimentary event ticket per baker.\nClick Here to Donate Items to the Silent Auction!\nThe deadline to donate items for the silent auction is Friday\, July 19th at 12:00 PM.\nClick Here to Bid on Items in the Virtual Silent Auction!\nThe auction opens on Wednesday\, July 24th at 12:00 PM and closes on Friday\, July 26th at 7:00 PM. This is a virtual auction and items will be on display during the event. Winners will be notified automatically through the GalaBid system. We will contact you during the week of July 31st to schedule a day/time to pick up and pay for your winning items if you do not pay online. You do not need to pay through the GalaBid auction site and can bring a check to the administrative offices when you arrive for your items. Donations from local businesses and individuals sponsor the auction portion of this event\n\nChaffee County Habitat for Humanity presents the 10th Annual Mac & Cheese Bake-Off fundraiser featuring “Anything Pasta” on Thursday\, July 25th from 5:30-7:30 PM. Mount Princeton Hot Springs Resort will\, again\, generously donate the use of their pavilion\, and proceeds from this event will benefit Chaffee County Habitat for Humanity’s mission of building homes\, communities\, and hope. Individuals\, church groups\, businesses\, and restaurants bring their best pasta recipes\, and attendees will vote for their favorite dishes. Prizes are awarded for the winning recipes in the individual and restaurant categories for first\, second\, and third place. Salads\, desserts\, and a cash bar will be provided. \nAdult tickets for the event are $25.00 if purchased in advance and $35.00 on the day of the event; tickets for children ages 12 and under are $10.00. For each event ticket purchased\, please record all guests’ first & last names. This info is required for each guest attending the event for event protocol at the venue. \nFor more information call 719-395-0482\, or email events@chaffeehabitat.org\nWe look forward to seeing you at this year’s event!
URL:https://chaffeehabitat.org/wp/event/10th-annual-mac-cheese-bake-off-fundraiser-2/
LOCATION:Mount Princeton Hot Springs Resort Pavilion\, 15870 Co Rd 162\, Nathrop\, CO\, 81236\, United States
CATEGORIES:Fundraiser
ORGANIZER;CN="Chaffee County Habitat for Humanity":MAILTO:angela@chaffeehabitat.org
END:VEVENT
END:VCALENDAR